BEGIN:VCALENDAR
VERSION:2.0
PRODID:-//bib der dinge - ECPv6.15.20//NONSGML v1.0//EN
CALSCALE:GREGORIAN
METHOD:PUBLISH
X-ORIGINAL-URL:https://bib-der-dinge-bochum.de
X-WR-CALDESC:Veranstaltungen für bib der dinge
REFRESH-INTERVAL;VALUE=DURATION:PT1H
X-Robots-Tag:noindex
X-PUBLISHED-TTL:PT1H
BEGIN:VTIMEZONE
TZID:Europe/Berlin
BEGIN:DAYLIGHT
TZOFFSETFROM:+0100
TZOFFSETTO:+0200
TZNAME:CEST
DTSTART:20250330T010000
END:DAYLIGHT
BEGIN:STANDARD
TZOFFSETFROM:+0200
TZOFFSETTO:+0100
TZNAME:CET
DTSTART:20251026T010000
END:STANDARD
BEGIN:DAYLIGHT
TZOFFSETFROM:+0100
TZOFFSETTO:+0200
TZNAME:CEST
DTSTART:20260329T010000
END:DAYLIGHT
BEGIN:STANDARD
TZOFFSETFROM:+0200
TZOFFSETTO:+0100
TZNAME:CET
DTSTART:20261025T010000
END:STANDARD
BEGIN:DAYLIGHT
TZOFFSETFROM:+0100
TZOFFSETTO:+0200
TZNAME:CEST
DTSTART:20270328T010000
END:DAYLIGHT
BEGIN:STANDARD
TZOFFSETFROM:+0200
TZOFFSETTO:+0100
TZNAME:CET
DTSTART:20271031T010000
END:STANDARD
END:VTIMEZONE
BEGIN:VEVENT
DTSTART;TZID=Europe/Berlin:20261028T100000
DTEND;TZID=Europe/Berlin:20261028T120000
DTSTAMP:20260422T212839
CREATED:20260313T073642Z
LAST-MODIFIED:20260313T073642Z
UID:10940-1793181600-1793188800@bib-der-dinge-bochum.de
SUMMARY:HuiBo-Kids zu Gast
DESCRIPTION:Wir heißen die HuiBo-Kids willkommen. Gemeinsam werden wir aus alten Wachsresten neue Kerzen gießen. \nMehr Infos und wie man mitmachen kann gibt’s hier: HUIBO-Kinderclub
URL:https://bib-der-dinge-bochum.de/termin/huibo-kids-zu-gast-3/
LOCATION:Hauptstandort\, Knüwerweg 2\, Bochum\, 44789\, Germany
ATTACH;FMTTYPE=image/png:https://bib-der-dinge-bochum.de/wp-content/uploads/2026/03/HuiBo-freigestellt-473x705-1.png
ORGANIZER;CN="bib der dinge Bochum":MAILTO:info@bib-der-dinge-bochum.de
END:VEVENT
END:VCALENDAR