BEGIN:VCALENDAR
VERSION:2.0
PRODID:-//bib der dinge - ECPv6.15.20//NONSGML v1.0//EN
CALSCALE:GREGORIAN
METHOD:PUBLISH
X-WR-CALNAME:bib der dinge
X-ORIGINAL-URL:https://bib-der-dinge-bochum.de
X-WR-CALDESC:Veranstaltungen für bib der dinge
REFRESH-INTERVAL;VALUE=DURATION:PT1H
X-Robots-Tag:noindex
X-PUBLISHED-TTL:PT1H
BEGIN:VTIMEZONE
TZID:Europe/Berlin
BEGIN:DAYLIGHT
TZOFFSETFROM:+0100
TZOFFSETTO:+0200
TZNAME:CEST
DTSTART:20250330T010000
END:DAYLIGHT
BEGIN:STANDARD
TZOFFSETFROM:+0200
TZOFFSETTO:+0100
TZNAME:CET
DTSTART:20251026T010000
END:STANDARD
BEGIN:DAYLIGHT
TZOFFSETFROM:+0100
TZOFFSETTO:+0200
TZNAME:CEST
DTSTART:20260329T010000
END:DAYLIGHT
BEGIN:STANDARD
TZOFFSETFROM:+0200
TZOFFSETTO:+0100
TZNAME:CET
DTSTART:20261025T010000
END:STANDARD
BEGIN:DAYLIGHT
TZOFFSETFROM:+0100
TZOFFSETTO:+0200
TZNAME:CEST
DTSTART:20270328T010000
END:DAYLIGHT
BEGIN:STANDARD
TZOFFSETFROM:+0200
TZOFFSETTO:+0100
TZNAME:CET
DTSTART:20271031T010000
END:STANDARD
END:VTIMEZONE
BEGIN:VEVENT
DTSTART;TZID=Europe/Berlin:20260716T080000
DTEND;TZID=Europe/Berlin:20260716T130000
DTSTAMP:20260422T165433
CREATED:20260416T091101Z
LAST-MODIFIED:20260416T091101Z
UID:11107-1784188800-1784206800@bib-der-dinge-bochum.de
SUMMARY:UNESCO-Projekttage der Schiller Schule
DESCRIPTION:
URL:https://bib-der-dinge-bochum.de/termin/unesco-projekttage-der-schiller-schule-2/
LOCATION:Hauptstandort\, Knüwerweg 2\, Bochum\, 44789\, Germany
ORGANIZER;CN="bib der dinge Bochum":MAILTO:info@bib-der-dinge-bochum.de
END:VEVENT
END:VCALENDAR