BEGIN:VCALENDAR
VERSION:2.0
PRODID:-//bib der dinge - ECPv6.15.20//NONSGML v1.0//EN
CALSCALE:GREGORIAN
METHOD:PUBLISH
X-WR-CALNAME:bib der dinge
X-ORIGINAL-URL:https://bib-der-dinge-bochum.de
X-WR-CALDESC:Veranstaltungen für bib der dinge
REFRESH-INTERVAL;VALUE=DURATION:PT1H
X-Robots-Tag:noindex
X-PUBLISHED-TTL:PT1H
BEGIN:VTIMEZONE
TZID:Europe/Berlin
BEGIN:DAYLIGHT
TZOFFSETFROM:+0100
TZOFFSETTO:+0200
TZNAME:CEST
DTSTART:20250330T010000
END:DAYLIGHT
BEGIN:STANDARD
TZOFFSETFROM:+0200
TZOFFSETTO:+0100
TZNAME:CET
DTSTART:20251026T010000
END:STANDARD
BEGIN:DAYLIGHT
TZOFFSETFROM:+0100
TZOFFSETTO:+0200
TZNAME:CEST
DTSTART:20260329T010000
END:DAYLIGHT
BEGIN:STANDARD
TZOFFSETFROM:+0200
TZOFFSETTO:+0100
TZNAME:CET
DTSTART:20261025T010000
END:STANDARD
BEGIN:DAYLIGHT
TZOFFSETFROM:+0100
TZOFFSETTO:+0200
TZNAME:CEST
DTSTART:20270328T010000
END:DAYLIGHT
BEGIN:STANDARD
TZOFFSETFROM:+0200
TZOFFSETTO:+0100
TZNAME:CET
DTSTART:20271031T010000
END:STANDARD
END:VTIMEZONE
BEGIN:VEVENT
DTSTART;TZID=Europe/Berlin:20260425T100000
DTEND;TZID=Europe/Berlin:20260425T120000
DTSTAMP:20260420T174011
CREATED:20260409T101240Z
LAST-MODIFIED:20260409T101240Z
UID:11016-1777111200-1777118400@bib-der-dinge-bochum.de
SUMMARY:Offene Häkel- & Strickwerkstatt
DESCRIPTION:Mit Nadel (mit einer vorn gebogenen oder mehreren geraden im Nadelspiel) und Faden jeglicher Couleur werden wir mit unserer Margot die verrücktesten Dinge zaubern: gehäkelte Himbeeren\, Muffins\, Torten oder auch einfach gemusterte gestrickte Flächen. \nEs wird gehäkelt oder auch gestrickt. \nWer etwas passend zur Jahreszeit kreieren möchte ist dazu herzlich eingeladen! \nIhr habt Fragen oder Anregungen\, seid Anfänger\, Fortgeschritten oder irgendwas dazwischen!? Wollt ihr einfach in Gesellschaft die Nadeln klappern lassen? Dann seid ihr hier genau richtig. \nKosten: Ein Knipser auf der Karte\nAnmeldung erforderlich: Persönlich via Telefon oder via Email.\nTeilnahmebedingungen: Interesse an Nadel und Faden\nMaximale Teilnehmerzahl: 8\nZielgruppe: Häkel- und Strickwillige und -wütige Menschen mit oder ohne Erfahrung\nErgebnis: Die Nadel mutiert mit unserer Margot zu einem wedelnden Zauberstab und lässt in eurer Hand die tollsten Sachen entstehen.
URL:https://bib-der-dinge-bochum.de/termin/offene-haekel-strickwerkstatt-31/
LOCATION:Hauptstandort\, Knüwerweg 2\, Bochum\, 44789\, Germany
ORGANIZER;CN="bib der dinge Bochum":MAILTO:info@bib-der-dinge-bochum.de
END:VEVENT
BEGIN:VEVENT
DTSTART;TZID=Europe/Berlin:20260425T100000
DTEND;TZID=Europe/Berlin:20260425T130000
DTSTAMP:20260420T174011
CREATED:20251211T074821Z
LAST-MODIFIED:20260409T100345Z
UID:10541-1777111200-1777122000@bib-der-dinge-bochum.de
SUMMARY:Repair Cafe N° 41
DESCRIPTION:Was macht man mit einem Toaster\, der nicht mehr funktioniert? Oder mit einem Fahrrad\, bei dem das Rad schleift? Oder mit einem Pullover mit Mottenlöchern? Wegwerfen? Denkste! \nGemeinsam reparieren wir das\, was ihr mitbringt\, weil’s nicht mehr funktioniert. Eine Garantie auf Erfolg gibt’s nicht – wir geben aber unser Bestes. Nehmt gern vorab Kontakt auf\, damit wir ggf. dafür sorgen können dass passendes Werkzeug bzw. Expertise vor Ort ist. \nGetränke & Kaffee sind vorhanden – das Spendenschwein freut sich über Futter.\n\nKosten: keine\, wir freuen uns aber über eine Spende.\nAnmeldung: nicht zwingende erforderlich aber hilfreich persönlich\, via Telefon oder Email.\nTeilnahmebedingungen: Das übliche: gezogener Scheitel und gewienerte Schuhe \nZielgruppe: All diejenigen Geräte\, die sich vernachlässigt/vergessen fühlen\, da sie nicht mehr (ganz so taufrisch) funktionieren.
URL:https://bib-der-dinge-bochum.de/termin/repair-cafe-n-41/
LOCATION:Hauptstandort\, Knüwerweg 2\, Bochum\, 44789\, Germany
ATTACH;FMTTYPE=image/jpeg:https://bib-der-dinge-bochum.de/wp-content/uploads/2022/02/RC_blueorangemix2.jpg
ORGANIZER;CN="bib der dinge Bochum":MAILTO:info@bib-der-dinge-bochum.de
END:VEVENT
END:VCALENDAR